BEGIN:VCALENDAR
VERSION:2.0
PRODID:-//TYPO3/NONSGML News system (news)//EN
BEGIN:VEVENT
UID:news-135500@koordination-gender.uni-graz.at
DTSTAMP:20260407T115535Z
DTSTART:20260617T130000Z
DTEND:20260617T150000Z
SUMMARY:Gender Studies - und dann? Wege, Perspektiven, Netzwerke

DESCRIPTION:Ein inspirierender Nachmittag mit Expert*innen für Studierende der Interdisziplinären Geschlechterstudien und Studieninteressierte
END:VEVENT
END:VCALENDAR
