BEGIN:VCALENDAR
VERSION:2.0
PRODID:-//TYPO3/NONSGML News system (news)//EN
BEGIN:VEVENT
UID:news-76911@koordination-gender.uni-graz.at
DTSTAMP:20210826T061755Z
DTSTART:20210920T070000Z
DTEND:20210922T140000Z
SUMMARY:Gender: Ambivalente Un_Sichtbarkeiten

DESCRIPTION:8. Jahrestagung der Österreichischen Gesellschaft für Geschlechterforschung von 20.-22.9.2021 (online)
END:VEVENT
END:VCALENDAR
