BEGIN:VCALENDAR
VERSION:2.0
PRODID:-//TYPO3/NONSGML News system (news)//EN
BEGIN:VEVENT
UID:news-124063@koordination-gender.uni-graz.at
DTSTAMP:20260420T104152Z
DTSTART:20260611T130000Z
DTEND:20260611T150000Z
SUMMARY:Anreizsystem zur Frauenförderung

DESCRIPTION:Jährlich werden Wissenschaftszweige der Universität Graz für ihre hervorragende Nachwuchsförderung, Einstiegschancen und Aufstiegschancen im Sinne der Gleichstellung von Männern und Frauen an unserer Universität ausgezeichnet.
END:VEVENT
END:VCALENDAR
